BEGIN:VCALENDAR
VERSION:2.0
PRODID:-//Panorama Mall - ECPv4.9.12//NONSGML v1.0//EN
CALSCALE:GREGORIAN
METHOD:PUBLISH
X-WR-CALNAME:Panorama Mall
X-ORIGINAL-URL:https://panoramamalloman.com
X-WR-CALDESC:Events for Panorama Mall
BEGIN:VTIMEZONE
TZID:UTC
BEGIN:STANDARD
TZOFFSETFROM:+0000
TZOFFSETTO:+0000
TZNAME:UTC
DTSTART:20170101T000000
END:STANDARD
END:VTIMEZONE
BEGIN:VEVENT
DTSTART;VALUE=DATE:20170601
DTEND;VALUE=DATE:20170602
DTSTAMP:20260419T205453
CREATED:20170601T084126Z
LAST-MODIFIED:20170622T084230Z
UID:10673-1496275200-1496361599@panoramamalloman.com
SUMMARY:جواله نادي السيب
DESCRIPTION:
URL:https://panoramamalloman.com/event/%d8%ac%d9%88%d8%a7%d9%84%d9%87-%d9%86%d8%a7%d8%af%d9%8a-%d8%a7%d9%84%d8%b3%d9%8a%d8%a8/
END:VEVENT
END:VCALENDAR