BEGIN:VCALENDAR
VERSION:2.0
PRODID:-//Panorama Mall - ECPv4.9.12//NONSGML v1.0//EN
CALSCALE:GREGORIAN
METHOD:PUBLISH
X-WR-CALNAME:Panorama Mall
X-ORIGINAL-URL:https://panoramamalloman.com
X-WR-CALDESC:Events for Panorama Mall
BEGIN:VTIMEZONE
TZID:UTC
BEGIN:STANDARD
TZOFFSETFROM:+0000
TZOFFSETTO:+0000
TZNAME:UTC
DTSTART:20180101T000000
END:STANDARD
END:VTIMEZONE
BEGIN:VEVENT
DTSTART;TZID=UTC:20180303T120000
DTEND;TZID=UTC:20180303T170000
DTSTAMP:20260419T030606
CREATED:20180320T103317Z
LAST-MODIFIED:20180320T103317Z
UID:10911-1520078400-1520096400@panoramamalloman.com
SUMMARY:World Hearing Day celebration
DESCRIPTION: \n#cmsmasters_row_69e4469ed1b2a .cmsmasters_row_outer_parent { \n	padding-top: 0px; \n} \n\n#cmsmasters_row_69e4469ed1b2a .cmsmasters_row_outer_parent { \n	padding-bottom: 50px; \n} \n\n\n\n\n\n\n\n\nCelebrate world hearing day at Panorama Mall with professional hearing aids\, Games for children and much more. \n\n\n\n\n\n\n\n\n
URL:https://panoramamalloman.com/event/world-hearing-day-celebration/
ATTACH;FMTTYPE=image/jpeg:https://panoramamalloman.com/wp-content/uploads/2018/03/Hearing.jpg
END:VEVENT
END:VCALENDAR