BEGIN:VCALENDAR
VERSION:2.0
PRODID:-//Panorama Mall - ECPv4.9.12//NONSGML v1.0//EN
CALSCALE:GREGORIAN
METHOD:PUBLISH
X-WR-CALNAME:Panorama Mall
X-ORIGINAL-URL:https://panoramamalloman.com
X-WR-CALDESC:Events for Panorama Mall
BEGIN:VTIMEZONE
TZID:UTC
BEGIN:STANDARD
TZOFFSETFROM:+0000
TZOFFSETTO:+0000
TZNAME:UTC
DTSTART:20170101T000000
END:STANDARD
END:VTIMEZONE
BEGIN:VEVENT
DTSTART;TZID=UTC:20171221T190000
DTEND;TZID=UTC:20171223T210000
DTSTAMP:20260418T053501
CREATED:20171221T061542Z
LAST-MODIFIED:20171231T062018Z
UID:10811-1513882800-1514062800@panoramamalloman.com
SUMMARY:Meet Santa Claus Event
DESCRIPTION:
URL:https://panoramamalloman.com/event/meet-santa-claus-event/
END:VEVENT
END:VCALENDAR