BEGIN:VCALENDAR
VERSION:2.0
PRODID:-//Panorama Mall - ECPv4.9.12//NONSGML v1.0//EN
CALSCALE:GREGORIAN
METHOD:PUBLISH
X-WR-CALNAME:Panorama Mall
X-ORIGINAL-URL:https://panoramamalloman.com
X-WR-CALDESC:Events for Panorama Mall
BEGIN:VTIMEZONE
TZID:UTC
BEGIN:STANDARD
TZOFFSETFROM:+0000
TZOFFSETTO:+0000
TZNAME:UTC
DTSTART:20180101T000000
END:STANDARD
END:VTIMEZONE
BEGIN:VEVENT
DTSTART;VALUE=DATE:20180525
DTEND;VALUE=DATE:20180526
DTSTAMP:20260418T073225
CREATED:20180525T060245Z
LAST-MODIFIED:20180613T060617Z
UID:10976-1527206400-1527292799@panoramamalloman.com
SUMMARY:Giving Day 2018
DESCRIPTION:
URL:https://panoramamalloman.com/event/giving-day-2018/
ATTACH;FMTTYPE=image/jpeg:https://panoramamalloman.com/wp-content/uploads/2018/06/Giving-Day.jpg
END:VEVENT
END:VCALENDAR