BEGIN:VCALENDAR
VERSION:2.0
PRODID:-//Panorama Mall - ECPv4.9.12//NONSGML v1.0//EN
CALSCALE:GREGORIAN
METHOD:PUBLISH
X-WR-CALNAME:Panorama Mall
X-ORIGINAL-URL:https://panoramamalloman.com
X-WR-CALDESC:Events for Panorama Mall
BEGIN:VTIMEZONE
TZID:UTC
BEGIN:STANDARD
TZOFFSETFROM:+0000
TZOFFSETTO:+0000
TZNAME:UTC
DTSTART:20180101T000000
END:STANDARD
END:VTIMEZONE
BEGIN:VEVENT
DTSTART;VALUE=DATE:20180314
DTEND;VALUE=DATE:20180329
DTSTAMP:20260419T013101
CREATED:20180314T055729Z
LAST-MODIFIED:20180613T055856Z
UID:10972-1520985600-1522281599@panoramamalloman.com
SUMMARY:Blind Awareness 2018
DESCRIPTION:
URL:https://panoramamalloman.com/event/blind-awareness-2018-2/
END:VEVENT
END:VCALENDAR